BEGIN:VCALENDAR
VERSION:2.0
CALSCALE:GREGORIAN
PRODID:-//Diputació de Barcelona//DibaCMS//EN
BEGIN:VEVENT
UID:DI_5276@www.santacolomadecervello.cat
DTSTAMP:20260421T230239
DTSTART:20260421T183000
DTEND:20260421T183000
SUMMARY:V Jornades de Memòria Històrica Local
LOCATION:Plaça del Pi Tallat, 1 08690 Santa Coloma de Cervelló 
METHOD:PUBLISH
X-WR-CALNAME:scc.ajuntament@santacolomadecervello.cat
X-WR-TIMEZONE:Europe/Madrid
DESCRIPTION:Presentació del llibre Santa Coloma de Cervell&oacu
	te; desapareguda A la Societat Recreativa
URI:https://www.santacolomadecervello.cat/actualitat/agenda/5276-v-jornades-de-memoria-historica-local.html
CLASS:PUBLIC
END:VEVENT
BEGIN:VEVENT
UID:DI_5199@www.santacolomadecervello.cat
DTSTAMP:20260421T230239
DTSTART:20260422T183000
DTEND:20260422T183000
SUMMARY:Ecofeminisme: Dones, natura i transformació col·lectiva
LOCATION:Passatge Maria Mercè Marçal, s/n 08690 Santa Coloma de Cervelló 
METHOD:PUBLISH
X-WR-CALNAME:scc.ajuntament@santacolomadecervello.cat
X-WR-TIMEZONE:Europe/Madrid
DESCRIPTION:A la Biblioteca Pilarin Bayés
URI:https://www.santacolomadecervello.cat/actualitat/agenda/ecofeminisme-dones-natura-i-transformacio-collectiva.html
CLASS:PUBLIC
END:VEVENT
BEGIN:VEVENT
UID:DI_5277@www.santacolomadecervello.cat
DTSTAMP:20260421T230239
DTSTART:20260422T183000
DTEND:20260422T183000
SUMMARY:Xerrada sobre Ecofeminisme: Dones, natura i transformació col·lectiva
LOCATION:Passatge Maria Mercè Marçal, s/n 08690 Santa Coloma de Cervelló 
METHOD:PUBLISH
X-WR-CALNAME:scc.ajuntament@santacolomadecervello.cat
X-WR-TIMEZONE:Europe/Madrid
DESCRIPTION:A la Biblioteca Pilarin Bayés
URI:https://www.santacolomadecervello.cat/actualitat/agenda/xerrada-sobre-ecofeminisme-dones-natura-i-transformacio-collectiva.html
CLASS:PUBLIC
END:VEVENT
BEGIN:VEVENT
UID:DI_5295@www.santacolomadecervello.cat
DTSTAMP:20260421T230239
DTSTART:20260423T100000
DTEND:20260423T200000
SUMMARY:Per Sant Jordi, regala històries, comparteix cultura
LOCATION:
METHOD:PUBLISH
X-WR-CALNAME:scc.ajuntament@santacolomadecervello.cat
X-WR-TIMEZONE:Europe/Madrid
DESCRIPTION:Parada de la Comissió de Festes Majors
URI:https://www.santacolomadecervello.cat/actualitat/agenda/per-sant-jordi-regala-histories-comparteix-cultura.html
CLASS:PUBLIC
END:VEVENT
BEGIN:VEVENT
UID:DI_5296@www.santacolomadecervello.cat
DTSTAMP:20260421T230239
DTSTART:20260423T100000
DTEND:20260423T200000
SUMMARY:La Biblioteca, al carrer
LOCATION:
METHOD:PUBLISH
X-WR-CALNAME:scc.ajuntament@santacolomadecervello.cat
X-WR-TIMEZONE:Europe/Madrid
DESCRIPTION:Amb servei de prèstec A la plaça Pi Tallat
URI:https://www.santacolomadecervello.cat/actualitat/agenda/la-biblioteca-al-carrer.html
CLASS:PUBLIC
END:VEVENT
BEGIN:VEVENT
UID:DI_5297@www.santacolomadecervello.cat
DTSTAMP:20260421T230239
DTSTART:20260423T170000
DTEND:20260423T170000
SUMMARY:Presentació del Pla Local de Foment de la Lectura
LOCATION:
METHOD:PUBLISH
X-WR-CALNAME:scc.ajuntament@santacolomadecervello.cat
X-WR-TIMEZONE:Europe/Madrid
DESCRIPTION:A la plaça Pi Tallat
URI:https://www.santacolomadecervello.cat/actualitat/agenda/presentacio-del-pla-local-de-foment-de-la-lectura.html
CLASS:PUBLIC
END:VEVENT
BEGIN:VEVENT
UID:DI_5298@www.santacolomadecervello.cat
DTSTAMP:20260421T230239
DTSTART:20260423T173000
DTEND:20260423T173000
SUMMARY:Espectacle Sant Jordi, princeses i dracs
LOCATION:
METHOD:PUBLISH
X-WR-CALNAME:scc.ajuntament@santacolomadecervello.cat
X-WR-TIMEZONE:Europe/Madrid
DESCRIPTION:Amb Sensedrama Teatre A la plaça Pi Tallat
URI:https://www.santacolomadecervello.cat/actualitat/agenda/espectacle-sant-jordi-princeses-i-dracs.html
CLASS:PUBLIC
END:VEVENT
BEGIN:VEVENT
UID:DI_5299@www.santacolomadecervello.cat
DTSTAMP:20260421T230239
DTSTART:20260423T193000
DTEND:20260423T193000
SUMMARY:Explosió Literària
LOCATION:
METHOD:PUBLISH
X-WR-CALNAME:scc.ajuntament@santacolomadecervello.cat
X-WR-TIMEZONE:Europe/Madrid
DESCRIPTION:Societat Recreativa
URI:https://www.santacolomadecervello.cat/actualitat/agenda/explosio-literaria.html
CLASS:PUBLIC
END:VEVENT
BEGIN:VEVENT
UID:DI_5278@www.santacolomadecervello.cat
DTSTAMP:20260421T230239
DTSTART:20260424T000000
DTEND:20260424T000000
SUMMARY:Exposició «Aquest estrany món petit»
LOCATION:Passatge Maria Mercè Marçal, s/n 08690 Santa Coloma de Cervelló 
METHOD:PUBLISH
X-WR-CALNAME:scc.ajuntament@santacolomadecervello.cat
X-WR-TIMEZONE:Europe/Madrid
DESCRIPTION:A la Biblioteca Pilarin Bayés
URI:https://www.santacolomadecervello.cat/actualitat/agenda/exposicio-aquest-estrany-mon-petit.html
CLASS:PUBLIC
END:VEVENT
BEGIN:VEVENT
UID:DI_5279@www.santacolomadecervello.cat
DTSTAMP:20260421T230239
DTSTART:20260424T173000
DTEND:20260424T173000
SUMMARY:Cinefòrum «Cinema i IA»
LOCATION:Passatge Maria Mercè Marçal, s/n 08690 Santa Coloma de Cervelló 
METHOD:PUBLISH
X-WR-CALNAME:scc.ajuntament@santacolomadecervello.cat
X-WR-TIMEZONE:Europe/Madrid
DESCRIPTION:A la Biblioteca Pilarin Bayés
URI:https://www.santacolomadecervello.cat/actualitat/agenda/cineforum-cinema-i-ia.html
CLASS:PUBLIC
END:VEVENT
BEGIN:VEVENT
UID:DI_5280@www.santacolomadecervello.cat
DTSTAMP:20260421T230239
DTSTART:20260424T180000
DTEND:20260424T180000
SUMMARY:Lliurament de premis del 20è Concurs de Narrativa i Poesia
LOCATION:Pau Casals, 26 - 34 08690 Santa Coloma de Cervelló
METHOD:PUBLISH
X-WR-CALNAME:scc.ajuntament@santacolomadecervello.cat
X-WR-TIMEZONE:Europe/Madrid
DESCRIPTION:A la Sala de Plens de l'Ajuntament
URI:https://www.santacolomadecervello.cat/actualitat/agenda/lliurament-de-premis-del-20e-concurs-de-narrativa-i-poesia.html
CLASS:PUBLIC
END:VEVENT
BEGIN:VEVENT
UID:DI_5281@www.santacolomadecervello.cat
DTSTAMP:20260421T230239
DTSTART:20260424T190000
DTEND:20260424T190000
SUMMARY:«La teva casa, la teva salut»
LOCATION:Plaça del Pi Tallat, 1 08690 Santa Coloma de Cervelló 
METHOD:PUBLISH
X-WR-CALNAME:scc.ajuntament@santacolomadecervello.cat
X-WR-TIMEZONE:Europe/Madrid
DESCRIPTION:A la Societat Recreativa
URI:https://www.santacolomadecervello.cat/actualitat/agenda/la-teva-casa-la-teva-salut.html
CLASS:PUBLIC
END:VEVENT
BEGIN:VEVENT
UID:DI_5282@www.santacolomadecervello.cat
DTSTAMP:20260421T230239
DTSTART:20260424T200000
DTEND:20260424T200000
SUMMARY:Recital poètic a càrrec de Veus
LOCATION:Plaça Joan Güell, 5 08690 Santa Coloma de Cervelló 
METHOD:PUBLISH
X-WR-CALNAME:scc.ajuntament@santacolomadecervello.cat
X-WR-TIMEZONE:Europe/Madrid
DESCRIPTION:A l'Ateneu Unió
URI:https://www.santacolomadecervello.cat/actualitat/agenda/recital-poetic-a-carrec-de-veus.html
CLASS:PUBLIC
END:VEVENT
BEGIN:VEVENT
UID:DI_5283@www.santacolomadecervello.cat
DTSTAMP:20260421T230239
DTSTART:20260425T113000
DTEND:20260425T220000
SUMMARY:10 anys de FIRAvins, la fira del vi
LOCATION:
METHOD:PUBLISH
X-WR-CALNAME:scc.ajuntament@santacolomadecervello.cat
X-WR-TIMEZONE:Europe/Madrid
DESCRIPTION:FIRAvins celebra els seus deu anys! A la plaça de les Vi
	nyes
URI:https://www.santacolomadecervello.cat/actualitat/agenda/10-anys-de-firavins-la-fira-del-vi.html
CLASS:PUBLIC
END:VEVENT
BEGIN:VEVENT
UID:DI_5288@www.santacolomadecervello.cat
DTSTAMP:20260421T230239
DTSTART:20260426T120000
DTEND:20260426T120000
SUMMARY:Jugatecambiental
LOCATION:Parc de Can Lluc 08690 Santa Coloma de Cervelló 
METHOD:PUBLISH
X-WR-CALNAME:scc.ajuntament@santacolomadecervello.cat
X-WR-TIMEZONE:Europe/Madrid
DESCRIPTION:El Dia de les Papallones Al Parc de Can Lluc
URI:https://www.santacolomadecervello.cat/actualitat/agenda/5288-jugatecambiental.html
CLASS:PUBLIC
END:VEVENT
BEGIN:VEVENT
UID:DI_5284@www.santacolomadecervello.cat
DTSTAMP:20260421T230239
DTSTART:20260429T180000
DTEND:20260429T180000
SUMMARY:Xerrada «Límits respectuosos i sans» 12-14 anys
LOCATION:c/ Lluís Pascual Roca, 2-4 08690 Santa Coloma de Cervelló 
METHOD:PUBLISH
X-WR-CALNAME:scc.ajuntament@santacolomadecervello.cat
X-WR-TIMEZONE:Europe/Madrid
DESCRIPTION:Adreçada a famílies amb infants d’entre dot
	ze i catorze anys Al Centre Cívic Can Baruta
URI:https://www.santacolomadecervello.cat/actualitat/agenda/xerrada-limits-respectuosos-i-sans-12-14-anys.html
CLASS:PUBLIC
END:VEVENT
BEGIN:VEVENT
UID:DI_5285@www.santacolomadecervello.cat
DTSTAMP:20260421T230239
DTSTART:20260430T000000
DTEND:20260430T000000
SUMMARY:Romeria de la Santa Paloma
LOCATION:
METHOD:PUBLISH
X-WR-CALNAME:scc.ajuntament@santacolomadecervello.cat
X-WR-TIMEZONE:Europe/Madrid
DESCRIPTION:A la Font del Murri
URI:https://www.santacolomadecervello.cat/actualitat/agenda/5285-romeria-de-la-santa-paloma.html
CLASS:PUBLIC
END:VEVENT
END:VCALENDAR
