BEGIN:VCALENDAR
VERSION:2.0
CALSCALE:GREGORIAN
PRODID:-//Diputació de Barcelona//DibaCMS//EN
BEGIN:VEVENT
UID:1103
DTSTAMP:20260421T112548
DTSTART:20181019T190000
DTEND:20181019T190000
SUMMARY:18a Festa del Modernisme
LOCATION:
METHOD:PUBLISH
X-WR-CALNAME:scc.ajuntament@santacolomadecervello.cat
X-WR-TIMEZONE:Europe/Madrid
DESCRIPTION:19, 20 i 21 d’octubre

URI:https://www.santacolomadecervello.cat/actualitat/agenda/18a-festa-del-modernisme.html
CLASS:PUBLIC
END:VEVENT
END:VCALENDAR
