BEGIN:VCALENDAR
VERSION:2.0
CALSCALE:GREGORIAN
PRODID:-//Diputació de Barcelona//DibaCMS//EN
BEGIN:VEVENT
UID:1117
DTSTAMP:20260423T105821
DTSTART:20181004T181500
DTEND:20181004T181500
SUMMARY:60è aniversari de l'A.E Amics de la Muntanya
LOCATION:
METHOD:PUBLISH
X-WR-CALNAME:scc.ajuntament@santacolomadecervello.cat
X-WR-TIMEZONE:Europe/Madrid
DESCRIPTION:L'Associació Excursionista Amics de la Muntanya és una de les entitats deganes en el nostre municipi, en especial pel que fa al seu àmbit, la natura i el medi ambient. El 1957 naixia la idea, i un any després el projecte s'havia consolidat. Enguany celebren el seu 60è aniversari, i han preparat tot un seguit d’actes.

URI:https://www.santacolomadecervello.cat/actualitat/agenda/60e-aniversari-de-lae-amics-de-la-muntanya.html
CLASS:PUBLIC
END:VEVENT
END:VCALENDAR
