BEGIN:VCALENDAR
VERSION:2.0
CALSCALE:GREGORIAN
PRODID:-//Diputació de Barcelona//DibaCMS//EN
BEGIN:VEVENT
UID:2249
DTSTAMP:20260422T135340
DTSTART:20201022T170000
DTEND:20201022T210000
SUMMARY:Campanya de donació de sang
LOCATION:Plaça de les Vinyes, s/n  08690 Santa Coloma de Cervelló 
METHOD:PUBLISH
X-WR-CALNAME:scc.ajuntament@santacolomadecervello.cat
X-WR-TIMEZONE:Europe/Madrid
DESCRIPTION:AL CASAL DE LA GENT GRAN DE SANTA COLOMA DE CERVELLÓ
Pl. de les Vinyes

Cal que els donants reservin hora des del web donarsang.gencat.cat

URI:https://www.santacolomadecervello.cat/actualitat/agenda/2249-campanya-de-donacio-de-sang.html
CLASS:PUBLIC
END:VEVENT
END:VCALENDAR
