BEGIN:VCALENDAR
VERSION:2.0
CALSCALE:GREGORIAN
PRODID:-//Diputació de Barcelona//DibaCMS//EN
BEGIN:VEVENT
UID:3207
DTSTAMP:20260421T144828
DTSTART:20230911T090000
DTEND:20230911T120000
SUMMARY:41è Cros Popular 11 de setembre
LOCATION:
METHOD:PUBLISH
X-WR-CALNAME:scc.ajuntament@santacolomadecervello.cat
X-WR-TIMEZONE:Europe/Madrid
DESCRIPTION:Inscripcions en línia fins al 3 de setembre o fins arribar a les 550 persones inscrites
SORTIDA DE LA CURSA DES DEL CARRER PADRÓ

URI:https://www.santacolomadecervello.cat/actualitat/agenda/41e-cros-popular-11-de-setembre.html
CLASS:PUBLIC
END:VEVENT
END:VCALENDAR
