BEGIN:VCALENDAR
VERSION:2.0
CALSCALE:GREGORIAN
PRODID:-//Diputació de Barcelona//DibaCMS//EN
BEGIN:VEVENT
UID:3252
DTSTAMP:20260421T131222
DTSTART:20221006T170000
DTEND:20221006T170000
SUMMARY:Taller de flors de tardor
LOCATION:
METHOD:PUBLISH
X-WR-CALNAME:scc.ajuntament@santacolomadecervello.cat
X-WR-TIMEZONE:Europe/Madrid
DESCRIPTION:19a Setmana de la Gent Gran
AL CASAL DE LA GENT GRAN DE LA COLÒNIA GÜELL

URI:https://www.santacolomadecervello.cat/actualitat/agenda/3252-taller-de-flors-de-tardor.html
CLASS:PUBLIC
END:VEVENT
END:VCALENDAR
