BEGIN:VCALENDAR
VERSION:2.0
CALSCALE:GREGORIAN
PRODID:-//Diputació de Barcelona//DibaCMS//EN
BEGIN:VEVENT
UID:3389
DTSTAMP:20260421T113721
DTSTART:20221223T180000
DTEND:20221223T180000
SUMMARY:Les Aventures del Lleó Vergonyós
LOCATION:Plaça Joan Güell, 5 08690 Santa Coloma de Cervelló 
METHOD:PUBLISH
X-WR-CALNAME:scc.ajuntament@santacolomadecervello.cat
X-WR-TIMEZONE:Europe/Madrid
DESCRIPTION:Entrades exhaurides

A L'ATENEU UNIÓ

URI:https://www.santacolomadecervello.cat/actualitat/agenda/les-aventures-del-lleo-vergonyos.html
CLASS:PUBLIC
END:VEVENT
END:VCALENDAR
