BEGIN:VCALENDAR
VERSION:2.0
CALSCALE:GREGORIAN
PRODID:-//Diputació de Barcelona//DibaCMS//EN
BEGIN:VEVENT
UID:4083
DTSTAMP:20260421T214332
DTSTART:20240420T113000
DTEND:20240420T113000
SUMMARY:8a edició de FIRAvins
LOCATION:
METHOD:PUBLISH
X-WR-CALNAME:scc.ajuntament@santacolomadecervello.cat
X-WR-TIMEZONE:Europe/Madrid
DESCRIPTION:Petits cellers, grans vins
A la plaça de les Vinyes

URI:https://www.santacolomadecervello.cat/actualitat/agenda/8a-edicio-de-firavins.html
CLASS:PUBLIC
END:VEVENT
END:VCALENDAR
