BEGIN:VCALENDAR
VERSION:2.0
CALSCALE:GREGORIAN
PRODID:-//Diputació de Barcelona//DibaCMS//EN
BEGIN:VEVENT
UID:4147
DTSTAMP:20260422T104626
DTSTART:20240506T180000
DTEND:20240506T180000
SUMMARY:Llegir el teatre
LOCATION:Passatge Maria Mercè Marçal, s/n 08690 Santa Coloma de Cervelló 
METHOD:PUBLISH
X-WR-CALNAME:scc.ajuntament@santacolomadecervello.cat
X-WR-TIMEZONE:Europe/Madrid
DESCRIPTION:Comentarem l'obra Amnèsia, de Nelson Valente
A la Biblioteca Pilairn Bayés

URI:https://www.santacolomadecervello.cat/actualitat/agenda/4147-llegir-el-teatre.html
CLASS:PUBLIC
END:VEVENT
END:VCALENDAR
