BEGIN:VCALENDAR
VERSION:2.0
CALSCALE:GREGORIAN
PRODID:-//Diputació de Barcelona//DibaCMS//EN
BEGIN:VEVENT
UID:4171
DTSTAMP:20260425T001447
DTSTART:20240601T000000
DTEND:20240601T000000
SUMMARY:Gran recapte d'aliments
LOCATION:
METHOD:PUBLISH
X-WR-CALNAME:scc.ajuntament@santacolomadecervello.cat
X-WR-TIMEZONE:Europe/Madrid
DESCRIPTION:Supermercats Bon Àrea i Consum

URI:https://www.santacolomadecervello.cat/actualitat/agenda/gran-recapte-daliments.html
CLASS:PUBLIC
END:VEVENT
END:VCALENDAR
