BEGIN:VCALENDAR
VERSION:2.0
CALSCALE:GREGORIAN
PRODID:-//Diputació de Barcelona//DibaCMS//EN
BEGIN:VEVENT
UID:4316
DTSTAMP:20260421T131004
DTSTART:20241018T193000
DTEND:20241018T193000
SUMMARY:24a Festa del Modernisme
LOCATION:
METHOD:PUBLISH
X-WR-CALNAME:scc.ajuntament@santacolomadecervello.cat
X-WR-TIMEZONE:Europe/Madrid
DESCRIPTION:Presentació de la 24a Festa del Modernisme i obertura de la Taverna Modernista
A la Cripta de la Colònia Güell

URI:https://www.santacolomadecervello.cat/actualitat/agenda/24a-festa-del-modernisme.html
CLASS:PUBLIC
END:VEVENT
END:VCALENDAR
