BEGIN:VCALENDAR
VERSION:2.0
CALSCALE:GREGORIAN
PRODID:-//Diputació de Barcelona//DibaCMS//EN
BEGIN:VEVENT
UID:4318
DTSTAMP:20260421T123222
DTSTART:20241020T103000
DTEND:20241020T140000
SUMMARY:24a Festa del Modernisme
LOCATION:
METHOD:PUBLISH
X-WR-CALNAME:scc.ajuntament@santacolomadecervello.cat
X-WR-TIMEZONE:Europe/Madrid
DESCRIPTION:Recreació teatralitzada de la vida de la Colònia Güell a principis del Segle XX 
Pels carrers de la Colònia Güell

URI:https://www.santacolomadecervello.cat/actualitat/agenda/4318-24a-festa-del-modernisme.html
CLASS:PUBLIC
END:VEVENT
END:VCALENDAR
