BEGIN:VCALENDAR
VERSION:2.0
CALSCALE:GREGORIAN
PRODID:-//Diputació de Barcelona//DibaCMS//EN
BEGIN:VEVENT
UID:4471
DTSTAMP:20260424T203235
DTSTART:20250119T170000
DTEND:20250119T170000
SUMMARY:Sessió CineXic (cicle de cinema infantil en català)
LOCATION:Plaça Joan Güell, 5 08690 Santa Coloma de Cervelló 
METHOD:PUBLISH
X-WR-CALNAME:scc.ajuntament@santacolomadecervello.cat
X-WR-TIMEZONE:Europe/Madrid
DESCRIPTION:Pel·lícula Zog, dracs i heroïnes
A l'Ateneu Unió

URI:https://www.santacolomadecervello.cat/actualitat/agenda/sessio-cinexic-cicle-de-cinema-infantil-en-catala.html
CLASS:PUBLIC
END:VEVENT
END:VCALENDAR
