BEGIN:VCALENDAR
VERSION:2.0
CALSCALE:GREGORIAN
PRODID:-//Diputació de Barcelona//DibaCMS//EN
BEGIN:VEVENT
UID:4666
DTSTAMP:20260426T021632
DTSTART:20250515T180000
DTEND:20250515T180000
SUMMARY:Univers Internet 
LOCATION:Passatge Maria Mercè Marçal, s/n 08690 Santa Coloma de Cervelló 
METHOD:PUBLISH
X-WR-CALNAME:scc.ajuntament@santacolomadecervello.cat
X-WR-TIMEZONE:Europe/Madrid
DESCRIPTION:«El futur d'internet»
A la Biblioteca Pilarin Bayés

URI:https://www.santacolomadecervello.cat/actualitat/agenda/univers-internet-.html
CLASS:PUBLIC
END:VEVENT
END:VCALENDAR
