BEGIN:VCALENDAR
VERSION:2.0
CALSCALE:GREGORIAN
PRODID:-//Diputació de Barcelona//DibaCMS//EN
BEGIN:VEVENT
UID:4714
DTSTAMP:20260421T131037
DTSTART:20250611T090000
DTEND:20250611T133000
SUMMARY:Oficina Mòbil d'Aigues de Barcelona
LOCATION:
METHOD:PUBLISH
X-WR-CALNAME:scc.ajuntament@santacolomadecervello.cat
X-WR-TIMEZONE:Europe/Madrid
DESCRIPTION:A la Plaça Pi Tallat

URI:https://www.santacolomadecervello.cat/actualitat/agenda/4714-oficina-mobil-daigues-de-barcelona.html
CLASS:PUBLIC
END:VEVENT
END:VCALENDAR
