BEGIN:VCALENDAR
VERSION:2.0
CALSCALE:GREGORIAN
PRODID:-//Diputació de Barcelona//DibaCMS//EN
BEGIN:VEVENT
UID:5022
DTSTAMP:20260426T032136
DTSTART:20260126T170000
DTEND:20260126T174500
SUMMARY:Club de lectura infantil en veu alta
LOCATION:Passatge Maria Mercè Marçal, s/n 08690 Santa Coloma de Cervelló 
METHOD:PUBLISH
X-WR-CALNAME:scc.ajuntament@santacolomadecervello.cat
X-WR-TIMEZONE:Europe/Madrid
DESCRIPTION:Per a nens i nenes de 1r de primària 

URI:https://www.santacolomadecervello.cat/actualitat/agenda/5022-club-de-lectura-infantil-en-veu-alta.html
CLASS:PUBLIC
END:VEVENT
END:VCALENDAR
