BEGIN:VCALENDAR
VERSION:2.0
CALSCALE:GREGORIAN
PRODID:-//Diputació de Barcelona//DibaCMS//EN
BEGIN:VEVENT
UID:5026
DTSTAMP:20260426T021822
DTSTART:20260128T184500
DTEND:20260128T184500
SUMMARY:Club de conversa en anglès "English Club" 
LOCATION:Passatge Maria Mercè Marçal, s/n 08690 Santa Coloma de Cervelló 
METHOD:PUBLISH
X-WR-CALNAME:scc.ajuntament@santacolomadecervello.cat
X-WR-TIMEZONE:Europe/Madrid
DESCRIPTION:A la Biblioteca Pilarín Bayés, a les 18.45 h

URI:https://www.santacolomadecervello.cat/actualitat/agenda/5026-club-de-conversa-en-angles-english-club-.html
CLASS:PUBLIC
END:VEVENT
END:VCALENDAR
