BEGIN:VCALENDAR
VERSION:2.0
CALSCALE:GREGORIAN
PRODID:-//Diputació de Barcelona//DibaCMS//EN
BEGIN:VEVENT
UID:5032
DTSTAMP:20260426T015513
DTSTART:20260122T193000
DTEND:20260122T193000
SUMMARY:Club de lectura 
LOCATION:Plaça del Pi Tallat, 1 08690 Santa Coloma de Cervelló 
METHOD:PUBLISH
X-WR-CALNAME:scc.ajuntament@santacolomadecervello.cat
X-WR-TIMEZONE:Europe/Madrid
DESCRIPTION:Al Racó del Soci de la Societat Recreativa

URI:https://www.santacolomadecervello.cat/actualitat/agenda/club-de-lectura-.html
CLASS:PUBLIC
END:VEVENT
END:VCALENDAR
