BEGIN:VCALENDAR
VERSION:2.0
CALSCALE:GREGORIAN
PRODID:-//Diputació de Barcelona//DibaCMS//EN
BEGIN:VEVENT
UID:5033
DTSTAMP:20260426T021346
DTSTART:20260123T183000
DTEND:20260123T183000
SUMMARY:El búnquer de la biblioteca
LOCATION:Passatge Maria Mercè Marçal, s/n 08690 Santa Coloma de Cervelló 
METHOD:PUBLISH
X-WR-CALNAME:scc.ajuntament@santacolomadecervello.cat
X-WR-TIMEZONE:Europe/Madrid
DESCRIPTION:A la Biblioteca Pilarín Bayés

URI:https://www.santacolomadecervello.cat/actualitat/agenda/5033-el-bunquer-de-la-biblioteca.html
CLASS:PUBLIC
END:VEVENT
END:VCALENDAR
