BEGIN:VCALENDAR
VERSION:2.0
CALSCALE:GREGORIAN
PRODID:-//Diputació de Barcelona//DibaCMS//EN
BEGIN:VEVENT
UID:5037
DTSTAMP:20260426T032839
DTSTART:20260125T113000
DTEND:20260125T113000
SUMMARY:Presentació del llibre "L'Ajuntament vell i Can Roc. Dues històries"
LOCATION:
METHOD:PUBLISH
X-WR-CALNAME:scc.ajuntament@santacolomadecervello.cat
X-WR-TIMEZONE:Europe/Madrid
DESCRIPTION:A la Plaça Constitució
Presentació del llibre “L’Ajuntament vell i Can Roc. Dues històries”
Núm. 8 de la col·lecció Plecs Locals d'Història 

URI:https://www.santacolomadecervello.cat/actualitat/agenda/presentacio-del-llibre-lajuntament-vell-i-can-roc-dues-histories.html
CLASS:PUBLIC
END:VEVENT
END:VCALENDAR
