BEGIN:VCALENDAR
VERSION:2.0
CALSCALE:GREGORIAN
PRODID:-//Diputació de Barcelona//DibaCMS//EN
BEGIN:VEVENT
UID:5039
DTSTAMP:20260426T032739
DTSTART:20260131T110000
DTEND:20260131T110000
SUMMARY:Representació de l'obra "L'arquitecte prohibit"
LOCATION:Plaça Joan Güell, s/n (Colònia Güell) 08690 Santa Coloma de Cervelló 
METHOD:PUBLISH
X-WR-CALNAME:scc.ajuntament@santacolomadecervello.cat
X-WR-TIMEZONE:Europe/Madrid
DESCRIPTION:A la Sala Teatre Fontova de l'Ateneu Unió

URI:https://www.santacolomadecervello.cat/actualitat/agenda/representacio-de-lobra-larquitecte-prohibit.html
CLASS:PUBLIC
END:VEVENT
END:VCALENDAR
