BEGIN:VCALENDAR
VERSION:2.0
CALSCALE:GREGORIAN
PRODID:-//Diputació de Barcelona//DibaCMS//EN
BEGIN:VEVENT
UID:5040
DTSTAMP:20260426T032515
DTSTART:20260131T180000
DTEND:20260131T180000
SUMMARY:Presentació de l'exposició "Ídols. La història il·lustrada del rock"
LOCATION:Plaça del Pi Tallat, 1 08690 Santa Coloma de Cervelló 
METHOD:PUBLISH
X-WR-CALNAME:scc.ajuntament@santacolomadecervello.cat
X-WR-TIMEZONE:Europe/Madrid
DESCRIPTION:A la Sala 3 de la Societat Recreativa 

URI:https://www.santacolomadecervello.cat/actualitat/agenda/presentacio-de-lexposicio-idols-la-historia-illustrada-del-rock.html
CLASS:PUBLIC
END:VEVENT
END:VCALENDAR
