BEGIN:VCALENDAR
VERSION:2.0
CALSCALE:GREGORIAN
PRODID:-//Diputació de Barcelona//DibaCMS//EN
BEGIN:VEVENT
UID:5048
DTSTAMP:20260426T020929
DTSTART:20260130T190000
DTEND:20260130T190000
SUMMARY:Assemblea de La Pasta Jove
LOCATION:Plaça del Pi Tallat, 1 08690 Santa Coloma de Cervelló 
METHOD:PUBLISH
X-WR-CALNAME:scc.ajuntament@santacolomadecervello.cat
X-WR-TIMEZONE:Europe/Madrid
DESCRIPTION:5a edició dels Pressupostos Participatius
A la Societat Recreativa 

URI:https://www.santacolomadecervello.cat/actualitat/agenda/5048-assemblea-de-la-pasta-jove.html
CLASS:PUBLIC
END:VEVENT
END:VCALENDAR
