BEGIN:VCALENDAR
VERSION:2.0
CALSCALE:GREGORIAN
PRODID:-//Diputació de Barcelona//DibaCMS//EN
BEGIN:VEVENT
UID:5050
DTSTAMP:20260426T015438
DTSTART:20260121T100000
DTEND:20260121T140000
SUMMARY:Suport a l'Ocupació Juvenil 
LOCATION:
METHOD:PUBLISH
X-WR-CALNAME:scc.ajuntament@santacolomadecervello.cat
X-WR-TIMEZONE:Europe/Madrid
DESCRIPTION:Busques feina? Necessites fer un CV? Vols orientació laboral...?
Al CRJ Can Carletes  

URI:https://www.santacolomadecervello.cat/actualitat/agenda/5050-suport-a-locupacio-juvenil-.html
CLASS:PUBLIC
END:VEVENT
END:VCALENDAR
