BEGIN:VCALENDAR
VERSION:2.0
CALSCALE:GREGORIAN
PRODID:-//Diputació de Barcelona//DibaCMS//EN
BEGIN:VEVENT
UID:5129
DTSTAMP:20260420T142139
DTSTART:20260308T090000
DTEND:20260308T130000
SUMMARY:30a Caminada Popular de Santa Coloma de Cervelló
LOCATION:
METHOD:PUBLISH
X-WR-CALNAME:scc.ajuntament@santacolomadecervello.cat
X-WR-TIMEZONE:Europe/Madrid
DESCRIPTION:En acabar, celebrarem el 30è aniversari amb una festa final plena de sorpreses
Sortida des de la plaça del Pi Tallat i arribada a la pl. de les Vinyes

URI:https://www.santacolomadecervello.cat/actualitat/agenda/30a-caminada-popular-de-santa-coloma-de-cervello.html
CLASS:PUBLIC
END:VEVENT
END:VCALENDAR
