BEGIN:VCALENDAR
VERSION:2.0
CALSCALE:GREGORIAN
PRODID:-//Diputació de Barcelona//DibaCMS//EN
BEGIN:VEVENT
UID:5278
DTSTAMP:20260422T005025
DTSTART:20260424T000000
DTEND:20260424T000000
SUMMARY:Exposició «Aquest estrany món petit»
LOCATION:Passatge Maria Mercè Marçal, s/n 08690 Santa Coloma de Cervelló 
METHOD:PUBLISH
X-WR-CALNAME:scc.ajuntament@santacolomadecervello.cat
X-WR-TIMEZONE:Europe/Madrid
DESCRIPTION:A la Biblioteca Pilarin Bayés

URI:https://www.santacolomadecervello.cat/actualitat/agenda/exposicio-aquest-estrany-mon-petit.html
CLASS:PUBLIC
END:VEVENT
END:VCALENDAR
