BEGIN:VCALENDAR
VERSION:2.0
CALSCALE:GREGORIAN
PRODID:-//Diputació de Barcelona//DibaCMS//EN
BEGIN:VEVENT
UID:5281
DTSTAMP:20260422T010513
DTSTART:20260424T190000
DTEND:20260424T190000
SUMMARY:«La teva casa, la teva salut»
LOCATION:Plaça del Pi Tallat, 1 08690 Santa Coloma de Cervelló 
METHOD:PUBLISH
X-WR-CALNAME:scc.ajuntament@santacolomadecervello.cat
X-WR-TIMEZONE:Europe/Madrid
DESCRIPTION:A la Societat Recreativa

URI:https://www.santacolomadecervello.cat/actualitat/agenda/la-teva-casa-la-teva-salut.html
CLASS:PUBLIC
END:VEVENT
END:VCALENDAR
