BEGIN:VCALENDAR
VERSION:2.0
CALSCALE:GREGORIAN
PRODID:-//Diputació de Barcelona//DibaCMS//EN
BEGIN:VEVENT
UID:5285
DTSTAMP:20260422T004659
DTSTART:20260430T000000
DTEND:20260430T000000
SUMMARY:Romeria de la Santa Paloma
LOCATION:
METHOD:PUBLISH
X-WR-CALNAME:scc.ajuntament@santacolomadecervello.cat
X-WR-TIMEZONE:Europe/Madrid
DESCRIPTION:A la Font del Murri

URI:https://www.santacolomadecervello.cat/actualitat/agenda/5285-romeria-de-la-santa-paloma.html
CLASS:PUBLIC
END:VEVENT
END:VCALENDAR
