BEGIN:VCALENDAR
VERSION:2.0
CALSCALE:GREGORIAN
PRODID:-//Diputació de Barcelona//DibaCMS//EN
BEGIN:VEVENT
UID:5296
DTSTAMP:20260422T022957
DTSTART:20260423T100000
DTEND:20260423T200000
SUMMARY:La Biblioteca, al carrer
LOCATION:
METHOD:PUBLISH
X-WR-CALNAME:scc.ajuntament@santacolomadecervello.cat
X-WR-TIMEZONE:Europe/Madrid
DESCRIPTION:Amb servei de prèstec
A la plaça Pi Tallat

URI:https://www.santacolomadecervello.cat/actualitat/agenda/la-biblioteca-al-carrer.html
CLASS:PUBLIC
END:VEVENT
END:VCALENDAR
