BEGIN:VCALENDAR
VERSION:2.0
CALSCALE:GREGORIAN
PRODID:-//Diputació de Barcelona//DibaCMS//EN
BEGIN:VEVENT
UID:5299
DTSTAMP:20260422T010435
DTSTART:20260423T193000
DTEND:20260423T193000
SUMMARY:Explosió Literària
LOCATION:
METHOD:PUBLISH
X-WR-CALNAME:scc.ajuntament@santacolomadecervello.cat
X-WR-TIMEZONE:Europe/Madrid
DESCRIPTION:Societat Recreativa

URI:https://www.santacolomadecervello.cat/actualitat/agenda/explosio-literaria.html
CLASS:PUBLIC
END:VEVENT
END:VCALENDAR
